BEGIN:VCALENDAR
VERSION:2.0
PRODID:-//Twin Cities Reggae - ECPv6.15.20//NONSGML v1.0//EN
CALSCALE:GREGORIAN
METHOD:PUBLISH
X-WR-CALNAME:Twin Cities Reggae
X-ORIGINAL-URL:https://twincitiesreggae.com
X-WR-CALDESC:Events for Twin Cities Reggae
REFRESH-INTERVAL;VALUE=DURATION:PT1H
X-Robots-Tag:noindex
X-PUBLISHED-TTL:PT1H
BEGIN:VTIMEZONE
TZID:America/Chicago
BEGIN:DAYLIGHT
TZOFFSETFROM:-0600
TZOFFSETTO:-0500
TZNAME:CDT
DTSTART:20220313T080000
END:DAYLIGHT
BEGIN:STANDARD
TZOFFSETFROM:-0500
TZOFFSETTO:-0600
TZNAME:CST
DTSTART:20221106T070000
END:STANDARD
BEGIN:DAYLIGHT
TZOFFSETFROM:-0600
TZOFFSETTO:-0500
TZNAME:CDT
DTSTART:20230312T080000
END:DAYLIGHT
BEGIN:STANDARD
TZOFFSETFROM:-0500
TZOFFSETTO:-0600
TZNAME:CST
DTSTART:20231105T070000
END:STANDARD
BEGIN:DAYLIGHT
TZOFFSETFROM:-0600
TZOFFSETTO:-0500
TZNAME:CDT
DTSTART:20240310T080000
END:DAYLIGHT
BEGIN:STANDARD
TZOFFSETFROM:-0500
TZOFFSETTO:-0600
TZNAME:CST
DTSTART:20241103T070000
END:STANDARD
END:VTIMEZONE
BEGIN:VEVENT
DTSTART;TZID=America/Chicago:20230926T190000
DTEND;TZID=America/Chicago:20230926T220000
DTSTAMP:20260423T114952
CREATED:20230802T170422Z
LAST-MODIFIED:20230802T170643Z
UID:1901-1695754800-1695765600@twincitiesreggae.com
SUMMARY:Steel Pulse
DESCRIPTION:It’s been a long time since we’ve seen Steel Pulse make a stop in the Twin Cities\, but that is about to change. As part of their CELEBRATION Tour\, Steel Pulse is planning to make a stop in MSP on September 26th at the Uptown Theater.\n\n\nThey will be opened for by: Common Kings and Jakobs Castle\n\nLearn More about STEEL PULSE
URL:https://twincitiesreggae.com/event/steel-pulse/
LOCATION:Uptown Theater\, 2900 Hennepin Ave\, Minneapolis\, 55408\, United States
ATTACH;FMTTYPE=image/jpeg:https://twincitiesreggae.com/wp-content/uploads/2023/08/steelpulse.jpg
END:VEVENT
BEGIN:VEVENT
DTSTART;TZID=America/Chicago:20230910T200000
DTEND;TZID=America/Chicago:20230910T230000
DTSTAMP:20260423T114952
CREATED:20230802T210713Z
LAST-MODIFIED:20230802T210713Z
UID:1907-1694376000-1694386800@twincitiesreggae.com
SUMMARY:Stephen Marley
DESCRIPTION:First Avenue Presents: \nStephen Marley\nOld Soul Unplugged 2023\nFirst Avenue\, Minneapolis\, MN Ages: 18 & Over with Valid Government ID\n\n$1 of every ticket will benefit the mission of Ghetto Youths Foundation (GYF) to provide aid and assistance\, support and critical resources to people in need across the globe. Each year GYF programs serve hundreds of young people\, seniors\, families\, and communities with transformative outreach initiatives supporting health and education\, sports and arts\, community-building and fundamental social services. For more information\, visit ghettoyouthsfoundation.org
URL:https://twincitiesreggae.com/event/stephen-marley/
LOCATION:First Avenue\, 701 N 1st Ave\, Minneapolis\, MN\, 55403\, United States
ATTACH;FMTTYPE=image/jpeg:https://twincitiesreggae.com/wp-content/uploads/2021/11/stephencrop.jpeg
END:VEVENT
BEGIN:VEVENT
DTSTART;TZID=America/Chicago:20230825T183000
DTEND;TZID=America/Chicago:20230825T203000
DTSTAMP:20260423T114952
CREATED:20230802T143205Z
LAST-MODIFIED:20230802T163341Z
UID:1894-1692988200-1692995400@twincitiesreggae.com
SUMMARY:The Wailers
DESCRIPTION:The Wailers is one of the most internationally known Reggae bands ever to hit the stage. Their culture-defining music\, embodying the spirit of the 1970s reggae movement\, has left an indelible mark on the industry. Experience the magic of their timeless classics and incredible cuts from Bob Marley’s vast repertoire in a set that is truly unforgettable. \nTWO shows: 6:30 and 8:30 PM \nMore about The Wailers
URL:https://twincitiesreggae.com/event/the-wailers/
LOCATION:The Dakota\, 1010 Nicollet Mall\, Minneapolis\, MN\, 55403\, United States
ATTACH;FMTTYPE=image/jpeg:https://twincitiesreggae.com/wp-content/uploads/2023/08/the-wailers-2023-approved-1000.jpg
END:VEVENT
BEGIN:VEVENT
DTSTART;TZID=America/Chicago:20230609T190000
DTEND;TZID=America/Chicago:20230609T230000
DTSTAMP:20260423T114952
CREATED:20230209T152614Z
LAST-MODIFIED:20230209T155547Z
UID:1878-1686337200-1686351600@twincitiesreggae.com
SUMMARY:MICHAEL FRANTI & SPEARHEAD: BIG BIG LOVE TOUR
DESCRIPTION:SMA\, Utepils Brewing and Cities 97.1 present Live at Utepils featuring Michael Franti & Spearhead: Big Big Love Tour with special guest The Dip on Friday\, June 9 at Utepils! Live at Utepils offers live music fans an amazing outdoor concert experience onsite at Utepils Brewing\, nestled on the beautiful banks of Bassett Creek right between Downtown Minneapolis and Theodore Wirth Parkway. It is returning for a second year\, and SMA is so excited to partner again with the team at Utepils to bring extraordinary live music to a unique venue in Minneapolis!
URL:https://twincitiesreggae.com/event/michael-franti-spearhead-big-big-love-tour/
LOCATION:Utepils Brewing\, 225 Thomas Ave N\, Minneapolis\, MN\, 55405\, United States
ATTACH;FMTTYPE=image/jpeg:https://twincitiesreggae.com/wp-content/uploads/2023/02/MichaelF-biglovetour.jpeg
END:VEVENT
END:VCALENDAR